BEGIN:VCALENDAR
VERSION:2.0
PRODID:-//Amateur Radio Club of Butts County - ECPv4.6.1//NONSGML v1.0//EN
CALSCALE:GREGORIAN
METHOD:PUBLISH
X-WR-CALNAME:Amateur Radio Club of Butts County
X-ORIGINAL-URL:http://www.bcgaares.org
X-WR-CALDESC:Events for Amateur Radio Club of Butts County
BEGIN:VEVENT
DTSTART;TZID=America/New_York:20160716T160000
DTEND;TZID=America/New_York:20160716T180000
DTSTAMP:20260424T101546
CREATED:20151205T005335Z
LAST-MODIFIED:20160226T000536Z
UID:648-1468684800-1468692000@www.bcgaares.org
SUMMARY:VE Testing Session
DESCRIPTION:Amateur Radio Testing Sessions.  Walk-ins welcome.  Cost is $15.00.  Bring picture ID\, if taking General or Extra exam\, bring copy of FCC License. \n
URL:http://www.bcgaares.org/event-calendar/ve-testing-session-4/
LOCATION:576 Ernest Biles Drive\, Jackson\, GA\, 30233\, United States
CATEGORIES:VE Testing
ORGANIZER;CN="Butts%20County%20Emergency%20Communications%20Auxiliary":MAILTO:w4ded@arrl.net
END:VEVENT
END:VCALENDAR