BEGIN:VCALENDAR
VERSION:2.0
PRODID:-//Amateur Radio Club of Butts County - ECPv4.6.1//NONSGML v1.0//EN
CALSCALE:GREGORIAN
METHOD:PUBLISH
X-WR-CALNAME:Amateur Radio Club of Butts County
X-ORIGINAL-URL:http://www.bcgaares.org
X-WR-CALDESC:Events for Amateur Radio Club of Butts County
BEGIN:VEVENT
DTSTART;TZID=America/New_York:20190720T160000
DTEND;TZID=America/New_York:20190720T180000
DTSTAMP:20260423T165506
CREATED:20181014T014830Z
LAST-MODIFIED:20181014T021251Z
UID:1798-1563638400-1563645600@www.bcgaares.org
SUMMARY:Amateur Radio Testing Session
DESCRIPTION:Amateur Radio Testing Sessions. Walk-ins welcome. Cost is $15.00. Bring picture ID\, if taking General or Extra exam\, bring copy of FCC License. \n
URL:http://www.bcgaares.org/event-calendar/ve-test-session/
LOCATION:144 Colwell Road\, Jackson\, GA\, 30233\, United States
CATEGORIES:VE Testing
END:VEVENT
END:VCALENDAR