BEGIN:VCALENDAR
VERSION:2.0
PRODID:-//Amateur Radio Club of Butts County - ECPv4.6.1//NONSGML v1.0//EN
CALSCALE:GREGORIAN
METHOD:PUBLISH
X-WR-CALNAME:Amateur Radio Club of Butts County
X-ORIGINAL-URL:http://www.bcgaares.org
X-WR-CALDESC:Events for Amateur Radio Club of Butts County
BEGIN:VEVENT
DTSTART;TZID=America/New_York:20160416T090000
DTEND;TZID=America/New_York:20160416T120000
DTSTAMP:20260424T070140
CREATED:20151229T223632Z
LAST-MODIFIED:20151229T223632Z
UID:704-1460797200-1460808000@www.bcgaares.org
SUMMARY:Tech Saturday
DESCRIPTION:Digital Practice – FlDigi & RMS Express \n
URL:http://www.bcgaares.org/event-calendar/tech-saturday/
LOCATION:168 Fairgrounds Street\, Jackson\, GA\, 30233\, United States
CATEGORIES:Amateur Radio Training
ORGANIZER;CN="Butts%20County%20Emergency%20Communications%20Auxiliary":MAILTO:w4ded@arrl.net
END:VEVENT
END:VCALENDAR