BEGIN:VCALENDAR
VERSION:2.0
PRODID:-//Amateur Radio Club of Butts County - ECPv4.6.1//NONSGML v1.0//EN
CALSCALE:GREGORIAN
METHOD:PUBLISH
X-WR-CALNAME:Amateur Radio Club of Butts County
X-ORIGINAL-URL:http://www.bcgaares.org
X-WR-CALDESC:Events for Amateur Radio Club of Butts County
BEGIN:VEVENT
DTSTART;TZID=America/New_York:20190216T090000
DTEND;TZID=America/New_York:20190216T120000
DTSTAMP:20260423T135911
CREATED:20181009T015050Z
LAST-MODIFIED:20181009T015050Z
UID:1721-1550307600-1550318400@www.bcgaares.org
SUMMARY:Tech Saturday
DESCRIPTION:
URL:http://www.bcgaares.org/event-calendar/tech-saturday-8/
LOCATION:144 Colwell Road\, Jackson\, GA\, 30233\, United States
CATEGORIES:Amateur Radio Training
END:VEVENT
END:VCALENDAR