BEGIN:VCALENDAR
VERSION:2.0
PRODID:-//Amateur Radio Club of Butts County - ECPv4.6.1//NONSGML v1.0//EN
CALSCALE:GREGORIAN
METHOD:PUBLISH
X-WR-CALNAME:Amateur Radio Club of Butts County
X-ORIGINAL-URL:http://www.bcgaares.org
X-WR-CALDESC:Events for Amateur Radio Club of Butts County
BEGIN:VEVENT
DTSTART;TZID=America/New_York:20200808T090000
DTEND;TZID=America/New_York:20200808T120000
DTSTAMP:20260424T070934
CREATED:20190805T172922Z
LAST-MODIFIED:20190805T172922Z
UID:2145-1596877200-1596888000@www.bcgaares.org
SUMMARY:Tech Saturday
DESCRIPTION:
URL:http://www.bcgaares.org/event-calendar/tech-saturday-18/
LOCATION:144 Colwell Road\, Jackson\, GA\, 30233\, United States
CATEGORIES:Amateur Radio Training
END:VEVENT
END:VCALENDAR