BEGIN:VCALENDAR
VERSION:2.0
PRODID:-//Amateur Radio Club of Butts County - ECPv4.6.1//NONSGML v1.0//EN
CALSCALE:GREGORIAN
METHOD:PUBLISH
X-WR-CALNAME:Amateur Radio Club of Butts County
X-ORIGINAL-URL:http://www.bcgaares.org
X-WR-CALDESC:Events for Amateur Radio Club of Butts County
BEGIN:VEVENT
DTSTART;TZID=America/New_York:20190126T090000
DTEND;TZID=America/New_York:20190126T140000
DTSTAMP:20260423T164950
CREATED:20181014T023400Z
LAST-MODIFIED:20190116T182939Z
UID:1820-1548493200-1548511200@www.bcgaares.org
SUMMARY:Tech Fest (GARS)
DESCRIPTION:An exhibition of the “Tech”nical aspects of Amateur Radio. \nFood\, Fun\, Free! \n
URL:http://www.bcgaares.org/event-calendar/tech-fest-gars/
LOCATION:665 Duluth Highway (GA-120)\, Lawrenceville\, GA\, 30046\, United States
CATEGORIES:Amateur Radio Training
END:VEVENT
END:VCALENDAR