BEGIN:VCALENDAR
VERSION:2.0
PRODID:-//Amateur Radio Club of Butts County - ECPv4.6.1//NONSGML v1.0//EN
CALSCALE:GREGORIAN
METHOD:PUBLISH
X-WR-CALNAME:Amateur Radio Club of Butts County
X-ORIGINAL-URL:http://www.bcgaares.org
X-WR-CALDESC:Events for Amateur Radio Club of Butts County
BEGIN:VEVENT
DTSTART;TZID=America/New_York:20200203T080000
DTEND;TZID=America/New_York:20200203T170000
DTSTAMP:20260423T234239
CREATED:20190805T161840Z
LAST-MODIFIED:20190805T161840Z
UID:2070-1580716800-1580749200@www.bcgaares.org
SUMMARY:Pre-Meeting Dinner
DESCRIPTION:Join us for our pre-meeting dinner for good food\, good friendship and a lot of rag chewing! \n
URL:http://www.bcgaares.org/event-calendar/pre-meeting-dinner-35/
LOCATION:232 W. 2nd Street\, Jackson\, GA\, 30233\, United States
END:VEVENT
END:VCALENDAR