BEGIN:VCALENDAR
VERSION:2.0
PRODID:-//Amateur Radio Club of Butts County - ECPv4.6.1//NONSGML v1.0//EN
CALSCALE:GREGORIAN
METHOD:PUBLISH
X-WR-CALNAME:Amateur Radio Club of Butts County
X-ORIGINAL-URL:http://www.bcgaares.org
X-WR-CALDESC:Events for Amateur Radio Club of Butts County
BEGIN:VEVENT
DTSTART;VALUE=DATE:20160212
DTEND;VALUE=DATE:20160215
DTSTAMP:20260424T111718
CREATED:20151204T234901Z
LAST-MODIFIED:20151204T234901Z
UID:634-1455235200-1455494399@www.bcgaares.org
SUMMARY:Orlando Hamcation 2016
DESCRIPTION:Orlando Hamcation will host the 2016 ARRL National Convention in February. The convention will mark the 70th anniversary of HamCation — second only in the US to Dayton Hamvention® in terms of attendance. Orlando HamCation is sponsored by the Orlando Amateur Radio Club\, an ARRL-affiliated radio club\, and is supported by volunteers from radio clubs throughout the region. HamCation has regularly served as the host for the ARRL Southeastern Division Convention\, and in 2014 — the ARRL’s centennial — it was designated as one of the six regional centennial events. The published HamCation gate figure for 2015 was more than 14\,000 for all 3 days. \n
URL:http://www.bcgaares.org/event-calendar/orlando-hamcation-2016/
LOCATION:Orlando\, FL\, United States
CATEGORIES:Hamfest
END:VEVENT
END:VCALENDAR