BEGIN:VCALENDAR
VERSION:2.0
PRODID:-//Amateur Radio Club of Butts County - ECPv4.6.1//NONSGML v1.0//EN
CALSCALE:GREGORIAN
METHOD:PUBLISH
X-WR-CALNAME:Amateur Radio Club of Butts County
X-ORIGINAL-URL:http://www.bcgaares.org
X-WR-CALDESC:Events for Amateur Radio Club of Butts County
BEGIN:VEVENT
DTSTART;TZID=America/New_York:20190128T190000
DTEND;TZID=America/New_York:20190128T200000
DTSTAMP:20260423T151914
CREATED:20181204T022252Z
LAST-MODIFIED:20181204T022252Z
UID:1853-1548702000-1548705600@www.bcgaares.org
SUMMARY:Morse Code Training 2
DESCRIPTION:
URL:http://www.bcgaares.org/event-calendar/morse-code-training-2-4/
LOCATION:144 Colwell Road\, Jackson\, GA\, 30233\, United States
CATEGORIES:Amateur Radio Training
END:VEVENT
END:VCALENDAR