BEGIN:VCALENDAR
VERSION:2.0
PRODID:-//Amateur Radio Club of Butts County - ECPv4.6.1//NONSGML v1.0//EN
CALSCALE:GREGORIAN
METHOD:PUBLISH
X-WR-CALNAME:Amateur Radio Club of Butts County
X-ORIGINAL-URL:http://www.bcgaares.org
X-WR-CALDESC:Events for Amateur Radio Club of Butts County
BEGIN:VEVENT
DTSTART;TZID=America/New_York:20190506T190000
DTEND;TZID=America/New_York:20190506T210000
DTSTAMP:20260423T072711
CREATED:20181009T022254Z
LAST-MODIFIED:20181009T022254Z
UID:1741-1557169200-1557176400@www.bcgaares.org
SUMMARY:Monthly Meeting
DESCRIPTION:
URL:http://www.bcgaares.org/event-calendar/monthly-meeting-5/
LOCATION:168 Fairgrounds Street\, Jackson\, GA\, 30233\, United States
CATEGORIES:Amateur Radio Training,Meeting
END:VEVENT
END:VCALENDAR