BEGIN:VCALENDAR
VERSION:2.0
PRODID:-//Amateur Radio Club of Butts County - ECPv4.6.1//NONSGML v1.0//EN
CALSCALE:GREGORIAN
METHOD:PUBLISH
X-WR-CALNAME:Amateur Radio Club of Butts County
X-ORIGINAL-URL:http://www.bcgaares.org
X-WR-CALDESC:Events for Amateur Radio Club of Butts County
BEGIN:VEVENT
DTSTART;TZID=America/New_York:20200106T190000
DTEND;TZID=America/New_York:20200106T210000
DTSTAMP:20260423T230321
CREATED:20190724T133224Z
LAST-MODIFIED:20190724T133224Z
UID:2020-1578337200-1578344400@www.bcgaares.org
SUMMARY:Monthly Meeting
DESCRIPTION:Join us for our monthly business meeting and training session.  We are a mentoring club striving to train Amateur Radio Operators for everyday radio uses and to be prepared for a disaster or emergency operations.  Visitors are invited to join us and learn about Amateur Radio. \n
URL:http://www.bcgaares.org/event-calendar/monthly-meeting-12/
LOCATION:168 Fairgrounds Street\, Jackson\, GA\, 30233\, United States
CATEGORIES:Amateur Radio Training,Meeting
END:VEVENT
END:VCALENDAR