BEGIN:VCALENDAR
VERSION:2.0
PRODID:-//Amateur Radio Club of Butts County - ECPv4.6.1//NONSGML v1.0//EN
CALSCALE:GREGORIAN
METHOD:PUBLISH
X-WR-CALNAME:Amateur Radio Club of Butts County
X-ORIGINAL-URL:http://www.bcgaares.org
X-WR-CALDESC:Events for Amateur Radio Club of Butts County
BEGIN:VEVENT
DTSTART;VALUE=DATE:20240817
DTEND;VALUE=DATE:20240819
DTSTAMP:20260421T143408
CREATED:20240722T154213Z
LAST-MODIFIED:20240722T154213Z
UID:2862-1723852800-1724025599@www.bcgaares.org
SUMMARY:Huntsville Hamfest
DESCRIPTION:Never outgrown however\, is the small town southern hospitality we extend to our visitors & vendors.  Once you experience The World’s Friendliest Hamfest\, we’re sure you’ll agree and will want to make Huntsville a regular destination on your annual  Hamfest schedule. \n
URL:http://www.bcgaares.org/event-calendar/huntsville-hamfest-6/
LOCATION:700 Monroe Street\, Huntsville\, AL\, 35801\, United States
END:VEVENT
END:VCALENDAR