BEGIN:VCALENDAR
VERSION:2.0
PRODID:-//Amateur Radio Club of Butts County - ECPv4.6.1//NONSGML v1.0//EN
CALSCALE:GREGORIAN
METHOD:PUBLISH
X-WR-CALNAME:Amateur Radio Club of Butts County
X-ORIGINAL-URL:http://www.bcgaares.org
X-WR-CALDESC:Events for Amateur Radio Club of Butts County
BEGIN:VEVENT
DTSTART;TZID=America/New_York:20200418T073000
DTEND;TZID=America/New_York:20200418T083000
DTSTAMP:20260424T032448
CREATED:20190805T165257Z
LAST-MODIFIED:20190805T165257Z
UID:2105-1587195000-1587198600@www.bcgaares.org
SUMMARY:Hungry Hams
DESCRIPTION:Join us for breakfast for good food\, good friendship and a lot of rag chewing! \n
URL:http://www.bcgaares.org/event-calendar/hungry-hams-55/
LOCATION:2679 Georgia Highway 16 West\, Jackson\, GA\, 30233\, United States
CATEGORIES:Dining Out
END:VEVENT
END:VCALENDAR