BEGIN:VCALENDAR
VERSION:2.0
PRODID:-//Amateur Radio Club of Butts County - ECPv4.6.1//NONSGML v1.0//EN
CALSCALE:GREGORIAN
METHOD:PUBLISH
X-WR-CALNAME:Amateur Radio Club of Butts County
X-ORIGINAL-URL:http://www.bcgaares.org
X-WR-CALDESC:Events for Amateur Radio Club of Butts County
BEGIN:VEVENT
DTSTART;TZID=America/New_York:20191116T073000
DTEND;TZID=America/New_York:20191116T083000
DTSTAMP:20260423T182931
CREATED:20181014T014431Z
LAST-MODIFIED:20181014T014431Z
UID:1796-1573889400-1573893000@www.bcgaares.org
SUMMARY:Hungry Hams
DESCRIPTION:Join us for breakfast; good food\, good friendship and a lot of rag chewing! \n
URL:http://www.bcgaares.org/event-calendar/hungry-hams-50/
LOCATION:180 Macon Avenue\, Jackson\, GA\, 30233\, United States
CATEGORIES:Dining Out
END:VEVENT
END:VCALENDAR