BEGIN:VCALENDAR
VERSION:2.0
PRODID:-//Amateur Radio Club of Butts County - ECPv4.6.1//NONSGML v1.0//EN
CALSCALE:GREGORIAN
METHOD:PUBLISH
X-WR-CALNAME:Amateur Radio Club of Butts County
X-ORIGINAL-URL:http://www.bcgaares.org
X-WR-CALDESC:Events for Amateur Radio Club of Butts County
BEGIN:VEVENT
DTSTART;TZID=America/New_York:20160716T083000
DTEND;TZID=America/New_York:20160716T160000
DTSTAMP:20260424T111523
CREATED:20160226T001929Z
LAST-MODIFIED:20160711T230549Z
UID:797-1468657800-1468684800@www.bcgaares.org
SUMMARY:Ham Cram
DESCRIPTION:Interested in joining the world of Amateur Radio. BCECA offers a Ham Cram to get you started. The Ham Cram is free and last from 8:30 AM to 4:00 PM. At 4:00 PM the VE Team arrives and gives the Technician Exam. The fee for the exam is $15.00. Picture ID and SSN are required. Check with Dan – w4ded@arrl.net or Buzz – k3gwk@arrl.net for more information. Seating is limited so reservations are required. \n
URL:http://www.bcgaares.org/event-calendar/ham-cram-2/
LOCATION:168 Fairgrounds Street\, Jackson\, GA\, 30233\, United States
CATEGORIES:Amateur Radio Training
ORGANIZER;CN="Butts%20County%20Emergency%20Communications%20Auxiliary":MAILTO:w4ded@arrl.net
END:VEVENT
END:VCALENDAR