BEGIN:VCALENDAR
VERSION:2.0
PRODID:-//Amateur Radio Club of Butts County - ECPv4.6.1//NONSGML v1.0//EN
CALSCALE:GREGORIAN
METHOD:PUBLISH
X-WR-CALNAME:Amateur Radio Club of Butts County
X-ORIGINAL-URL:http://www.bcgaares.org
X-WR-CALDESC:Events for Amateur Radio Club of Butts County
BEGIN:VEVENT
DTSTART;TZID=America/New_York:20181207T180000
DTEND;TZID=America/New_York:20181207T200000
DTSTAMP:20260423T194053
CREATED:20170917T171948Z
LAST-MODIFIED:20181106T175657Z
UID:1405-1544205600-1544212800@www.bcgaares.org
SUMMARY:Family Christmas Dinner (8th Anniversary)
DESCRIPTION:
URL:http://www.bcgaares.org/event-calendar/family-christmas-dinner-8th-anniversary/
LOCATION:231 W. 2nd Street\, Jackson\, GA\, 30233\, United States
CATEGORIES:Dining Out
END:VEVENT
END:VCALENDAR