BEGIN:VCALENDAR
VERSION:2.0
PRODID:-//Amateur Radio Club of Butts County - ECPv4.6.1//NONSGML v1.0//EN
CALSCALE:GREGORIAN
METHOD:PUBLISH
X-WR-CALNAME:Amateur Radio Club of Butts County
X-ORIGINAL-URL:http://www.bcgaares.org
X-WR-CALDESC:Events for Amateur Radio Club of Butts County
BEGIN:VEVENT
DTSTART;TZID=America/New_York:20190302T090000
DTEND;TZID=America/New_York:20190302T120000
DTSTAMP:20260423T165605
CREATED:20190218T173325Z
LAST-MODIFIED:20190218T173325Z
UID:1921-1551517200-1551528000@www.bcgaares.org
SUMMARY:DRATS Training
DESCRIPTION:DStar and DRATS Training.  Bring your laptop! \n
URL:http://www.bcgaares.org/event-calendar/drats-training/
LOCATION:144 Colwell Road\, Jackson\, GA\, 30233\, United States
CATEGORIES:Amateur Radio Training
END:VEVENT
END:VCALENDAR